BEGIN:VCALENDAR
VERSION:2.0
PRODID:-//Orquestra Con Spirito - ECPv6.15.12.2//NONSGML v1.0//EN
CALSCALE:GREGORIAN
METHOD:PUBLISH
X-ORIGINAL-URL:https://orquestraconspirito.com
X-WR-CALDESC:Eventos para Orquestra Con Spirito
REFRESH-INTERVAL;VALUE=DURATION:PT1H
X-Robots-Tag:noindex
X-PUBLISHED-TTL:PT1H
BEGIN:VTIMEZONE
TZID:UTC
BEGIN:STANDARD
TZOFFSETFROM:+0000
TZOFFSETTO:+0000
TZNAME:UTC
DTSTART:20230101T000000
END:STANDARD
END:VTIMEZONE
BEGIN:VEVENT
DTSTART;TZID=UTC:20240802T213000
DTEND;TZID=UTC:20240802T213000
DTSTAMP:20260421T163750
CREATED:20250104T145914Z
LAST-MODIFIED:20250104T145914Z
UID:5749-1722634200-1722634200@orquestraconspirito.com
SUMMARY:Gala de Ópera
DESCRIPTION:10ª edição Festival Música à sua Porta \nlgreja de São Domingos Viana do Castelo
URL:https://orquestraconspirito.com/evento/gala-de-opera/
ATTACH;FMTTYPE=image/webp:https://orquestraconspirito.com/wp-content/uploads/2025/01/Gala-de-opera.webp
END:VEVENT
BEGIN:VEVENT
DTSTART;TZID=UTC:20241122T210000
DTEND;TZID=UTC:20241122T210000
DTSTAMP:20260421T163750
CREATED:20250104T150248Z
LAST-MODIFIED:20250104T150248Z
UID:5752-1732309200-1732309200@orquestraconspirito.com
SUMMARY:Gala Solidária AEMinho
DESCRIPTION:Apresentação: Mário Daniel
URL:https://orquestraconspirito.com/evento/gala-solidaria-aeminho/
ATTACH;FMTTYPE=image/webp:https://orquestraconspirito.com/wp-content/uploads/2025/01/galad-solidaria-AE-Minho.webp
END:VEVENT
BEGIN:VEVENT
DTSTART;TZID=UTC:20250101T170000
DTEND;TZID=UTC:20250101T170000
DTSTAMP:20260421T163750
CREATED:20250104T145126Z
LAST-MODIFIED:20250107T102055Z
UID:5743-1735750800-1735750800@orquestraconspirito.com
SUMMARY:Concerto de Ano Novo
DESCRIPTION:Teatro Sá de Miranda\nOrganização: Câmara Municipal de Viana do Castelo \nCapital da Cultura 2025 | Eixo Atlântico
URL:https://orquestraconspirito.com/evento/concerto-de-ano-novo/
CATEGORIES:Concertos
ATTACH;FMTTYPE=image/webp:https://orquestraconspirito.com/wp-content/uploads/2025/01/concerto-Ano-Novo_quadrado.webp
END:VEVENT
END:VCALENDAR